BEGIN:VCALENDAR
VERSION:2.0
PRODID:-//Plone.org//NONSGML plone.app.event//EN
X-WR-TIMEZONE:America/Sao_Paulo
BEGIN:VEVENT
SUMMARY:Sessão Ordinária
DTSTART;TZID=America/Recife;VALUE=DATE-TIME:20260316T160000
DTEND;TZID=America/Recife;VALUE=DATE-TIME:20260316T200000
DTSTAMP;VALUE=DATE-TIME:20260420T080245Z
UID:d2e7cad7b0524201b6cfed7a2cf67eb9@127.0.0.1:8181
CREATED;VALUE=DATE-TIME:20260128T174131Z
DESCRIPTION:Sessão Ordinária
LAST-MODIFIED;VALUE=DATE-TIME:20260128T174135Z
URL:https://www.marilia.sp.leg.br/imprensa/eventos/event.2026-01-28.040538
 8289
END:VEVENT
BEGIN:VTIMEZONE
TZID:America/Recife
X-LIC-LOCATION:America/Recife
BEGIN:STANDARD
DTSTART;VALUE=DATE-TIME:20020216T230000
TZNAME:-03
TZOFFSETFROM:-0200
TZOFFSETTO:-0300
END:STANDARD
END:VTIMEZONE
END:VCALENDAR
