BEGIN:VCALENDAR
VERSION:2.0
PRODID:-//Plone.org//NONSGML plone.app.event//EN
X-WR-TIMEZONE:America/Sao_Paulo
BEGIN:VEVENT
SUMMARY:Sessão Ordinária
DTSTART;TZID=America/Sao_Paulo;VALUE=DATE-TIME:20260427T160000
DTEND;TZID=America/Sao_Paulo;VALUE=DATE-TIME:20260427T200000
DTSTAMP;VALUE=DATE-TIME:20260423T075813Z
UID:c73b4615d3c346a7ae993811c487c72c@127.0.0.1:8180
CREATED;VALUE=DATE-TIME:20260416T113818Z
DESCRIPTION:Sessão Ordinária
LAST-MODIFIED;VALUE=DATE-TIME:20260416T113822Z
URL:https://www.marilia.sp.leg.br/imprensa/eventos/event.2026-04-16.432741
 6405
END:VEVENT
BEGIN:VTIMEZONE
TZID:America/Sao_Paulo
X-LIC-LOCATION:America/Sao_Paulo
BEGIN:STANDARD
DTSTART;VALUE=DATE-TIME:20260221T230000
TZNAME:-03
TZOFFSETFROM:-0200
TZOFFSETTO:-0300
END:STANDARD
END:VTIMEZONE
END:VCALENDAR
